BEGIN:VCALENDAR
VERSION:2.0
PRODID:-//Silver Dollar Golf &amp; Trap Club - ECPv6.15.18//NONSGML v1.0//EN
CALSCALE:GREGORIAN
METHOD:PUBLISH
X-WR-CALNAME:Silver Dollar Golf &amp; Trap Club
X-ORIGINAL-URL:https://www.silverdollargolf.com
X-WR-CALDESC:Events for Silver Dollar Golf &amp; Trap Club
REFRESH-INTERVAL;VALUE=DURATION:PT1H
X-Robots-Tag:noindex
X-PUBLISHED-TTL:PT1H
BEGIN:VTIMEZONE
TZID:America/New_York
BEGIN:DAYLIGHT
TZOFFSETFROM:-0500
TZOFFSETTO:-0400
TZNAME:EDT
DTSTART:20240310T070000
END:DAYLIGHT
BEGIN:STANDARD
TZOFFSETFROM:-0400
TZOFFSETTO:-0500
TZNAME:EST
DTSTART:20241103T060000
END:STANDARD
BEGIN:DAYLIGHT
TZOFFSETFROM:-0500
TZOFFSETTO:-0400
TZNAME:EDT
DTSTART:20250309T070000
END:DAYLIGHT
BEGIN:STANDARD
TZOFFSETFROM:-0400
TZOFFSETTO:-0500
TZNAME:EST
DTSTART:20251102T060000
END:STANDARD
BEGIN:DAYLIGHT
TZOFFSETFROM:-0500
TZOFFSETTO:-0400
TZNAME:EDT
DTSTART:20260308T070000
END:DAYLIGHT
BEGIN:STANDARD
TZOFFSETFROM:-0400
TZOFFSETTO:-0500
TZNAME:EST
DTSTART:20261101T060000
END:STANDARD
END:VTIMEZONE
BEGIN:VEVENT
DTSTART;TZID=America/New_York:20250702T100000
DTEND;TZID=America/New_York:20250702T140000
DTSTAMP:20260423T183013
CREATED:20240815T134522Z
LAST-MODIFIED:20250604T140135Z
UID:10000353-1751450400-1751464800@www.silverdollargolf.com
SUMMARY:WEDNESDAY  -   FRIDAY   SCRAMBLE
DESCRIPTION:
URL:https://www.silverdollargolf.com/event/wednesday-friday-scramble-2/2025-07-02/
END:VEVENT
BEGIN:VEVENT
DTSTART;VALUE=DATE:20250703
DTEND;VALUE=DATE:20250704
DTSTAMP:20260423T183013
CREATED:20240730T180831Z
LAST-MODIFIED:20240730T200458Z
UID:10000049-1751500800-1751587199@www.silverdollargolf.com
SUMMARY:Ladies Day Every Thursday
DESCRIPTION:
URL:https://www.silverdollargolf.com/event/ladies-day/2025-07-03/
END:VEVENT
BEGIN:VEVENT
DTSTART;TZID=America/New_York:20250704T090000
DTEND;TZID=America/New_York:20250704T150000
DTSTAMP:20260423T183013
CREATED:20250604T134233Z
LAST-MODIFIED:20250604T140437Z
UID:10001307-1751619600-1751641200@www.silverdollargolf.com
SUMMARY:JULY 4TH SCRAMBLE
DESCRIPTION:Four Person Scramble – 18 Holes $45 Total \n\n$35 per Golfer includes Hotdog\, Chips\, and Fountain Drink\n$10 cash per golfer due at registration for prize fund\n\nSign up through the Pro Shop  – 813-920-3884 or Jill 813-480-0583 \n  \nEntry Deadline July 1st \n 
URL:https://www.silverdollargolf.com/event/july-4th-scramble/
LOCATION:Silver Dollar Golf
ATTACH;FMTTYPE=image/jpeg:https://www.silverdollargolf.com/wp-content/uploads/sites/9352/2025/06/July-4th.jpg
END:VEVENT
BEGIN:VEVENT
DTSTART;TZID=America/New_York:20250704T100000
DTEND;TZID=America/New_York:20250704T140000
DTSTAMP:20260423T183013
CREATED:20240815T134522Z
LAST-MODIFIED:20250604T140135Z
UID:10000354-1751623200-1751637600@www.silverdollargolf.com
SUMMARY:WEDNESDAY  -   FRIDAY   SCRAMBLE
DESCRIPTION:
URL:https://www.silverdollargolf.com/event/wednesday-friday-scramble-2/2025-07-04/
END:VEVENT
BEGIN:VEVENT
DTSTART;TZID=America/New_York:20250709T100000
DTEND;TZID=America/New_York:20250709T140000
DTSTAMP:20260423T183013
CREATED:20240815T134522Z
LAST-MODIFIED:20250604T140135Z
UID:10000355-1752055200-1752069600@www.silverdollargolf.com
SUMMARY:WEDNESDAY  -   FRIDAY   SCRAMBLE
DESCRIPTION:
URL:https://www.silverdollargolf.com/event/wednesday-friday-scramble-2/2025-07-09/
END:VEVENT
BEGIN:VEVENT
DTSTART;VALUE=DATE:20250710
DTEND;VALUE=DATE:20250711
DTSTAMP:20260423T183013
CREATED:20240730T180831Z
LAST-MODIFIED:20240730T200458Z
UID:10000050-1752105600-1752191999@www.silverdollargolf.com
SUMMARY:Ladies Day Every Thursday
DESCRIPTION:
URL:https://www.silverdollargolf.com/event/ladies-day/2025-07-10/
END:VEVENT
BEGIN:VEVENT
DTSTART;TZID=America/New_York:20250711T100000
DTEND;TZID=America/New_York:20250711T140000
DTSTAMP:20260423T183013
CREATED:20240815T134522Z
LAST-MODIFIED:20250604T140135Z
UID:10000356-1752228000-1752242400@www.silverdollargolf.com
SUMMARY:WEDNESDAY  -   FRIDAY   SCRAMBLE
DESCRIPTION:
URL:https://www.silverdollargolf.com/event/wednesday-friday-scramble-2/2025-07-11/
END:VEVENT
BEGIN:VEVENT
DTSTART;TZID=America/New_York:20250716T100000
DTEND;TZID=America/New_York:20250716T140000
DTSTAMP:20260423T183013
CREATED:20240815T134522Z
LAST-MODIFIED:20250604T140135Z
UID:10000357-1752660000-1752674400@www.silverdollargolf.com
SUMMARY:WEDNESDAY  -   FRIDAY   SCRAMBLE
DESCRIPTION:
URL:https://www.silverdollargolf.com/event/wednesday-friday-scramble-2/2025-07-16/
END:VEVENT
BEGIN:VEVENT
DTSTART;VALUE=DATE:20250717
DTEND;VALUE=DATE:20250718
DTSTAMP:20260423T183013
CREATED:20240730T180831Z
LAST-MODIFIED:20240730T200458Z
UID:10000051-1752710400-1752796799@www.silverdollargolf.com
SUMMARY:Ladies Day Every Thursday
DESCRIPTION:
URL:https://www.silverdollargolf.com/event/ladies-day/2025-07-17/
END:VEVENT
BEGIN:VEVENT
DTSTART;TZID=America/New_York:20250718T100000
DTEND;TZID=America/New_York:20250718T140000
DTSTAMP:20260423T183013
CREATED:20240815T134522Z
LAST-MODIFIED:20250604T140135Z
UID:10000358-1752832800-1752847200@www.silverdollargolf.com
SUMMARY:WEDNESDAY  -   FRIDAY   SCRAMBLE
DESCRIPTION:
URL:https://www.silverdollargolf.com/event/wednesday-friday-scramble-2/2025-07-18/
END:VEVENT
BEGIN:VEVENT
DTSTART;TZID=America/New_York:20250723T100000
DTEND;TZID=America/New_York:20250723T140000
DTSTAMP:20260423T183013
CREATED:20240815T134522Z
LAST-MODIFIED:20250604T140135Z
UID:10000359-1753264800-1753279200@www.silverdollargolf.com
SUMMARY:WEDNESDAY  -   FRIDAY   SCRAMBLE
DESCRIPTION:
URL:https://www.silverdollargolf.com/event/wednesday-friday-scramble-2/2025-07-23/
END:VEVENT
BEGIN:VEVENT
DTSTART;VALUE=DATE:20250724
DTEND;VALUE=DATE:20250725
DTSTAMP:20260423T183013
CREATED:20240730T180831Z
LAST-MODIFIED:20240730T200458Z
UID:10000052-1753315200-1753401599@www.silverdollargolf.com
SUMMARY:Ladies Day Every Thursday
DESCRIPTION:
URL:https://www.silverdollargolf.com/event/ladies-day/2025-07-24/
END:VEVENT
BEGIN:VEVENT
DTSTART;TZID=America/New_York:20250725T100000
DTEND;TZID=America/New_York:20250725T140000
DTSTAMP:20260423T183013
CREATED:20240815T134522Z
LAST-MODIFIED:20250604T140135Z
UID:10000360-1753437600-1753452000@www.silverdollargolf.com
SUMMARY:WEDNESDAY  -   FRIDAY   SCRAMBLE
DESCRIPTION:
URL:https://www.silverdollargolf.com/event/wednesday-friday-scramble-2/2025-07-25/
END:VEVENT
BEGIN:VEVENT
DTSTART;TZID=America/New_York:20250730T100000
DTEND;TZID=America/New_York:20250730T140000
DTSTAMP:20260423T183013
CREATED:20240815T134522Z
LAST-MODIFIED:20250604T140135Z
UID:10000361-1753869600-1753884000@www.silverdollargolf.com
SUMMARY:WEDNESDAY  -   FRIDAY   SCRAMBLE
DESCRIPTION:
URL:https://www.silverdollargolf.com/event/wednesday-friday-scramble-2/2025-07-30/
END:VEVENT
BEGIN:VEVENT
DTSTART;VALUE=DATE:20250731
DTEND;VALUE=DATE:20250801
DTSTAMP:20260423T183013
CREATED:20240730T180831Z
LAST-MODIFIED:20240730T200458Z
UID:10000053-1753920000-1754006399@www.silverdollargolf.com
SUMMARY:Ladies Day Every Thursday
DESCRIPTION:
URL:https://www.silverdollargolf.com/event/ladies-day/2025-07-31/
END:VEVENT
END:VCALENDAR