BEGIN:VCALENDAR
VERSION:2.0
PRODID:-//Silver Dollar Golf &amp; Trap Club - ECPv6.15.18//NONSGML v1.0//EN
CALSCALE:GREGORIAN
METHOD:PUBLISH
X-WR-CALNAME:Silver Dollar Golf &amp; Trap Club
X-ORIGINAL-URL:https://www.silverdollargolf.com
X-WR-CALDESC:Events for Silver Dollar Golf &amp; Trap Club
REFRESH-INTERVAL;VALUE=DURATION:PT1H
X-Robots-Tag:noindex
X-PUBLISHED-TTL:PT1H
BEGIN:VTIMEZONE
TZID:America/New_York
BEGIN:DAYLIGHT
TZOFFSETFROM:-0500
TZOFFSETTO:-0400
TZNAME:EDT
DTSTART:20240310T070000
END:DAYLIGHT
BEGIN:STANDARD
TZOFFSETFROM:-0400
TZOFFSETTO:-0500
TZNAME:EST
DTSTART:20241103T060000
END:STANDARD
BEGIN:DAYLIGHT
TZOFFSETFROM:-0500
TZOFFSETTO:-0400
TZNAME:EDT
DTSTART:20250309T070000
END:DAYLIGHT
BEGIN:STANDARD
TZOFFSETFROM:-0400
TZOFFSETTO:-0500
TZNAME:EST
DTSTART:20251102T060000
END:STANDARD
BEGIN:DAYLIGHT
TZOFFSETFROM:-0500
TZOFFSETTO:-0400
TZNAME:EDT
DTSTART:20260308T070000
END:DAYLIGHT
BEGIN:STANDARD
TZOFFSETFROM:-0400
TZOFFSETTO:-0500
TZNAME:EST
DTSTART:20261101T060000
END:STANDARD
END:VTIMEZONE
BEGIN:VEVENT
DTSTART;TZID=America/New_York:20250903T100000
DTEND;TZID=America/New_York:20250903T140000
DTSTAMP:20260423T152328
CREATED:20240815T134522Z
LAST-MODIFIED:20250604T140135Z
UID:10000371-1756893600-1756908000@www.silverdollargolf.com
SUMMARY:WEDNESDAY  -   FRIDAY   SCRAMBLE
DESCRIPTION:
URL:https://www.silverdollargolf.com/event/wednesday-friday-scramble-2/2025-09-03/
END:VEVENT
BEGIN:VEVENT
DTSTART;VALUE=DATE:20250904
DTEND;VALUE=DATE:20250905
DTSTAMP:20260423T152328
CREATED:20240730T180831Z
LAST-MODIFIED:20240730T200458Z
UID:10000058-1756944000-1757030399@www.silverdollargolf.com
SUMMARY:Ladies Day Every Thursday
DESCRIPTION:
URL:https://www.silverdollargolf.com/event/ladies-day/2025-09-04/
END:VEVENT
BEGIN:VEVENT
DTSTART;TZID=America/New_York:20250905T100000
DTEND;TZID=America/New_York:20250905T140000
DTSTAMP:20260423T152328
CREATED:20240815T134522Z
LAST-MODIFIED:20250604T140135Z
UID:10000372-1757066400-1757080800@www.silverdollargolf.com
SUMMARY:WEDNESDAY  -   FRIDAY   SCRAMBLE
DESCRIPTION:
URL:https://www.silverdollargolf.com/event/wednesday-friday-scramble-2/2025-09-05/
END:VEVENT
BEGIN:VEVENT
DTSTART;TZID=America/New_York:20250906T080000
DTEND;TZID=America/New_York:20250906T080000
DTSTAMP:20260423T152328
CREATED:20250812T142825Z
LAST-MODIFIED:20250812T151509Z
UID:10001835-1757145600-1757145600@www.silverdollargolf.com
SUMMARY:Saturday Scramble 18 holes
DESCRIPTION:Blind draw for teams\nShotgun Start\nContact Jill to sign up @ 813-480-0583
URL:https://www.silverdollargolf.com/event/saturday-scramble-18-holes-3/2025-09-06/
END:VEVENT
BEGIN:VEVENT
DTSTART;TZID=America/New_York:20250910T100000
DTEND;TZID=America/New_York:20250910T140000
DTSTAMP:20260423T152328
CREATED:20240815T134522Z
LAST-MODIFIED:20250604T140135Z
UID:10000373-1757498400-1757512800@www.silverdollargolf.com
SUMMARY:WEDNESDAY  -   FRIDAY   SCRAMBLE
DESCRIPTION:
URL:https://www.silverdollargolf.com/event/wednesday-friday-scramble-2/2025-09-10/
END:VEVENT
BEGIN:VEVENT
DTSTART;VALUE=DATE:20250911
DTEND;VALUE=DATE:20250912
DTSTAMP:20260423T152328
CREATED:20240730T180831Z
LAST-MODIFIED:20240730T200458Z
UID:10000059-1757548800-1757635199@www.silverdollargolf.com
SUMMARY:Ladies Day Every Thursday
DESCRIPTION:
URL:https://www.silverdollargolf.com/event/ladies-day/2025-09-11/
END:VEVENT
BEGIN:VEVENT
DTSTART;TZID=America/New_York:20250912T100000
DTEND;TZID=America/New_York:20250912T140000
DTSTAMP:20260423T152328
CREATED:20240815T134522Z
LAST-MODIFIED:20250604T140135Z
UID:10000374-1757671200-1757685600@www.silverdollargolf.com
SUMMARY:WEDNESDAY  -   FRIDAY   SCRAMBLE
DESCRIPTION:
URL:https://www.silverdollargolf.com/event/wednesday-friday-scramble-2/2025-09-12/
END:VEVENT
BEGIN:VEVENT
DTSTART;TZID=America/New_York:20250913T080000
DTEND;TZID=America/New_York:20250913T080000
DTSTAMP:20260423T152328
CREATED:20250812T142825Z
LAST-MODIFIED:20250812T151509Z
UID:10001836-1757750400-1757750400@www.silverdollargolf.com
SUMMARY:Saturday Scramble 18 holes
DESCRIPTION:Blind draw for teams\nShotgun Start\nContact Jill to sign up @ 813-480-0583
URL:https://www.silverdollargolf.com/event/saturday-scramble-18-holes-3/2025-09-13/
END:VEVENT
BEGIN:VEVENT
DTSTART;TZID=America/New_York:20250917T100000
DTEND;TZID=America/New_York:20250917T140000
DTSTAMP:20260423T152328
CREATED:20240815T134522Z
LAST-MODIFIED:20250604T140135Z
UID:10000375-1758103200-1758117600@www.silverdollargolf.com
SUMMARY:WEDNESDAY  -   FRIDAY   SCRAMBLE
DESCRIPTION:
URL:https://www.silverdollargolf.com/event/wednesday-friday-scramble-2/2025-09-17/
END:VEVENT
BEGIN:VEVENT
DTSTART;VALUE=DATE:20250918
DTEND;VALUE=DATE:20250919
DTSTAMP:20260423T152328
CREATED:20240730T180831Z
LAST-MODIFIED:20240730T200458Z
UID:10000060-1758153600-1758239999@www.silverdollargolf.com
SUMMARY:Ladies Day Every Thursday
DESCRIPTION:
URL:https://www.silverdollargolf.com/event/ladies-day/2025-09-18/
END:VEVENT
BEGIN:VEVENT
DTSTART;TZID=America/New_York:20250919T100000
DTEND;TZID=America/New_York:20250919T140000
DTSTAMP:20260423T152328
CREATED:20240815T134522Z
LAST-MODIFIED:20250604T140135Z
UID:10000376-1758276000-1758290400@www.silverdollargolf.com
SUMMARY:WEDNESDAY  -   FRIDAY   SCRAMBLE
DESCRIPTION:
URL:https://www.silverdollargolf.com/event/wednesday-friday-scramble-2/2025-09-19/
END:VEVENT
BEGIN:VEVENT
DTSTART;TZID=America/New_York:20250920T080000
DTEND;TZID=America/New_York:20250920T080000
DTSTAMP:20260423T152328
CREATED:20250812T142825Z
LAST-MODIFIED:20250812T151509Z
UID:10001837-1758355200-1758355200@www.silverdollargolf.com
SUMMARY:Saturday Scramble 18 holes
DESCRIPTION:Blind draw for teams\nShotgun Start\nContact Jill to sign up @ 813-480-0583
URL:https://www.silverdollargolf.com/event/saturday-scramble-18-holes-3/2025-09-20/
END:VEVENT
BEGIN:VEVENT
DTSTART;TZID=America/New_York:20250924T100000
DTEND;TZID=America/New_York:20250924T140000
DTSTAMP:20260423T152328
CREATED:20240815T134522Z
LAST-MODIFIED:20250604T140135Z
UID:10000377-1758708000-1758722400@www.silverdollargolf.com
SUMMARY:WEDNESDAY  -   FRIDAY   SCRAMBLE
DESCRIPTION:
URL:https://www.silverdollargolf.com/event/wednesday-friday-scramble-2/2025-09-24/
END:VEVENT
BEGIN:VEVENT
DTSTART;VALUE=DATE:20250925
DTEND;VALUE=DATE:20250926
DTSTAMP:20260423T152328
CREATED:20240730T180831Z
LAST-MODIFIED:20240730T200458Z
UID:10000061-1758758400-1758844799@www.silverdollargolf.com
SUMMARY:Ladies Day Every Thursday
DESCRIPTION:
URL:https://www.silverdollargolf.com/event/ladies-day/2025-09-25/
END:VEVENT
BEGIN:VEVENT
DTSTART;TZID=America/New_York:20250926T100000
DTEND;TZID=America/New_York:20250926T140000
DTSTAMP:20260423T152328
CREATED:20240815T134522Z
LAST-MODIFIED:20250604T140135Z
UID:10000378-1758880800-1758895200@www.silverdollargolf.com
SUMMARY:WEDNESDAY  -   FRIDAY   SCRAMBLE
DESCRIPTION:
URL:https://www.silverdollargolf.com/event/wednesday-friday-scramble-2/2025-09-26/
END:VEVENT
BEGIN:VEVENT
DTSTART;TZID=America/New_York:20250927T080000
DTEND;TZID=America/New_York:20250927T080000
DTSTAMP:20260423T152328
CREATED:20250812T142825Z
LAST-MODIFIED:20250812T151509Z
UID:10001838-1758960000-1758960000@www.silverdollargolf.com
SUMMARY:Saturday Scramble 18 holes
DESCRIPTION:Blind draw for teams\nShotgun Start\nContact Jill to sign up @ 813-480-0583
URL:https://www.silverdollargolf.com/event/saturday-scramble-18-holes-3/2025-09-27/
END:VEVENT
END:VCALENDAR