BEGIN:VCALENDAR
VERSION:2.0
PRODID:-//Silver Dollar Golf &amp; Trap Club - ECPv6.15.18//NONSGML v1.0//EN
CALSCALE:GREGORIAN
METHOD:PUBLISH
X-WR-CALNAME:Silver Dollar Golf &amp; Trap Club
X-ORIGINAL-URL:https://www.silverdollargolf.com
X-WR-CALDESC:Events for Silver Dollar Golf &amp; Trap Club
REFRESH-INTERVAL;VALUE=DURATION:PT1H
X-Robots-Tag:noindex
X-PUBLISHED-TTL:PT1H
BEGIN:VTIMEZONE
TZID:America/New_York
BEGIN:DAYLIGHT
TZOFFSETFROM:-0500
TZOFFSETTO:-0400
TZNAME:EDT
DTSTART:20250309T070000
END:DAYLIGHT
BEGIN:STANDARD
TZOFFSETFROM:-0400
TZOFFSETTO:-0500
TZNAME:EST
DTSTART:20251102T060000
END:STANDARD
BEGIN:DAYLIGHT
TZOFFSETFROM:-0500
TZOFFSETTO:-0400
TZNAME:EDT
DTSTART:20260308T070000
END:DAYLIGHT
BEGIN:STANDARD
TZOFFSETFROM:-0400
TZOFFSETTO:-0500
TZNAME:EST
DTSTART:20261101T060000
END:STANDARD
BEGIN:DAYLIGHT
TZOFFSETFROM:-0500
TZOFFSETTO:-0400
TZNAME:EDT
DTSTART:20270314T070000
END:DAYLIGHT
BEGIN:STANDARD
TZOFFSETFROM:-0400
TZOFFSETTO:-0500
TZNAME:EST
DTSTART:20271107T060000
END:STANDARD
END:VTIMEZONE
BEGIN:VEVENT
DTSTART;TZID=America/New_York:20260204T100000
DTEND;TZID=America/New_York:20260204T140000
DTSTAMP:20260423T072637
CREATED:20240815T134522Z
LAST-MODIFIED:20250604T140135Z
UID:10000415-1770199200-1770213600@www.silverdollargolf.com
SUMMARY:WEDNESDAY  -   FRIDAY   SCRAMBLE
DESCRIPTION:
URL:https://www.silverdollargolf.com/event/wednesday-friday-scramble-2/2026-02-04/
END:VEVENT
BEGIN:VEVENT
DTSTART;VALUE=DATE:20260205
DTEND;VALUE=DATE:20260206
DTSTAMP:20260423T072637
CREATED:20240730T180831Z
LAST-MODIFIED:20240730T200458Z
UID:10000080-1770249600-1770335999@www.silverdollargolf.com
SUMMARY:Ladies Day Every Thursday
DESCRIPTION:
URL:https://www.silverdollargolf.com/event/ladies-day/2026-02-05/
END:VEVENT
BEGIN:VEVENT
DTSTART;TZID=America/New_York:20260206T100000
DTEND;TZID=America/New_York:20260206T140000
DTSTAMP:20260423T072637
CREATED:20240815T134522Z
LAST-MODIFIED:20250604T140135Z
UID:10000416-1770372000-1770386400@www.silverdollargolf.com
SUMMARY:WEDNESDAY  -   FRIDAY   SCRAMBLE
DESCRIPTION:
URL:https://www.silverdollargolf.com/event/wednesday-friday-scramble-2/2026-02-06/
END:VEVENT
BEGIN:VEVENT
DTSTART;TZID=America/New_York:20260207T080000
DTEND;TZID=America/New_York:20260207T080000
DTSTAMP:20260423T072637
CREATED:20250812T142825Z
LAST-MODIFIED:20250812T151509Z
UID:10001857-1770451200-1770451200@www.silverdollargolf.com
SUMMARY:Saturday Scramble 18 holes
DESCRIPTION:Blind draw for teams\nShotgun Start\nContact Jill to sign up @ 813-480-0583
URL:https://www.silverdollargolf.com/event/saturday-scramble-18-holes-3/2026-02-07/
END:VEVENT
BEGIN:VEVENT
DTSTART;TZID=America/New_York:20260211T100000
DTEND;TZID=America/New_York:20260211T140000
DTSTAMP:20260423T072637
CREATED:20240815T134522Z
LAST-MODIFIED:20250604T140135Z
UID:10000417-1770804000-1770818400@www.silverdollargolf.com
SUMMARY:WEDNESDAY  -   FRIDAY   SCRAMBLE
DESCRIPTION:
URL:https://www.silverdollargolf.com/event/wednesday-friday-scramble-2/2026-02-11/
END:VEVENT
BEGIN:VEVENT
DTSTART;VALUE=DATE:20260212
DTEND;VALUE=DATE:20260213
DTSTAMP:20260423T072637
CREATED:20240730T180831Z
LAST-MODIFIED:20240730T200458Z
UID:10000081-1770854400-1770940799@www.silverdollargolf.com
SUMMARY:Ladies Day Every Thursday
DESCRIPTION:
URL:https://www.silverdollargolf.com/event/ladies-day/2026-02-12/
END:VEVENT
BEGIN:VEVENT
DTSTART;TZID=America/New_York:20260213T100000
DTEND;TZID=America/New_York:20260213T140000
DTSTAMP:20260423T072637
CREATED:20240815T134522Z
LAST-MODIFIED:20250604T140135Z
UID:10000418-1770976800-1770991200@www.silverdollargolf.com
SUMMARY:WEDNESDAY  -   FRIDAY   SCRAMBLE
DESCRIPTION:
URL:https://www.silverdollargolf.com/event/wednesday-friday-scramble-2/2026-02-13/
END:VEVENT
BEGIN:VEVENT
DTSTART;TZID=America/New_York:20260214T080000
DTEND;TZID=America/New_York:20260214T080000
DTSTAMP:20260423T072637
CREATED:20250812T142825Z
LAST-MODIFIED:20250812T151509Z
UID:10001858-1771056000-1771056000@www.silverdollargolf.com
SUMMARY:Saturday Scramble 18 holes
DESCRIPTION:Blind draw for teams\nShotgun Start\nContact Jill to sign up @ 813-480-0583
URL:https://www.silverdollargolf.com/event/saturday-scramble-18-holes-3/2026-02-14/
END:VEVENT
BEGIN:VEVENT
DTSTART;TZID=America/New_York:20260218T100000
DTEND;TZID=America/New_York:20260218T140000
DTSTAMP:20260423T072637
CREATED:20240815T134522Z
LAST-MODIFIED:20250604T140135Z
UID:10000419-1771408800-1771423200@www.silverdollargolf.com
SUMMARY:WEDNESDAY  -   FRIDAY   SCRAMBLE
DESCRIPTION:
URL:https://www.silverdollargolf.com/event/wednesday-friday-scramble-2/2026-02-18/
END:VEVENT
BEGIN:VEVENT
DTSTART;VALUE=DATE:20260219
DTEND;VALUE=DATE:20260220
DTSTAMP:20260423T072637
CREATED:20240730T180831Z
LAST-MODIFIED:20240730T200458Z
UID:10000082-1771459200-1771545599@www.silverdollargolf.com
SUMMARY:Ladies Day Every Thursday
DESCRIPTION:
URL:https://www.silverdollargolf.com/event/ladies-day/2026-02-19/
END:VEVENT
BEGIN:VEVENT
DTSTART;TZID=America/New_York:20260220T100000
DTEND;TZID=America/New_York:20260220T140000
DTSTAMP:20260423T072637
CREATED:20240815T134522Z
LAST-MODIFIED:20250604T140135Z
UID:10000420-1771581600-1771596000@www.silverdollargolf.com
SUMMARY:WEDNESDAY  -   FRIDAY   SCRAMBLE
DESCRIPTION:
URL:https://www.silverdollargolf.com/event/wednesday-friday-scramble-2/2026-02-20/
END:VEVENT
BEGIN:VEVENT
DTSTART;TZID=America/New_York:20260221T080000
DTEND;TZID=America/New_York:20260221T080000
DTSTAMP:20260423T072637
CREATED:20250812T142825Z
LAST-MODIFIED:20250812T151509Z
UID:10001859-1771660800-1771660800@www.silverdollargolf.com
SUMMARY:Saturday Scramble 18 holes
DESCRIPTION:Blind draw for teams\nShotgun Start\nContact Jill to sign up @ 813-480-0583
URL:https://www.silverdollargolf.com/event/saturday-scramble-18-holes-3/2026-02-21/
END:VEVENT
BEGIN:VEVENT
DTSTART;TZID=America/New_York:20260225T100000
DTEND;TZID=America/New_York:20260225T140000
DTSTAMP:20260423T072637
CREATED:20240815T134522Z
LAST-MODIFIED:20250604T140135Z
UID:10000421-1772013600-1772028000@www.silverdollargolf.com
SUMMARY:WEDNESDAY  -   FRIDAY   SCRAMBLE
DESCRIPTION:
URL:https://www.silverdollargolf.com/event/wednesday-friday-scramble-2/2026-02-25/
END:VEVENT
BEGIN:VEVENT
DTSTART;VALUE=DATE:20260226
DTEND;VALUE=DATE:20260227
DTSTAMP:20260423T072637
CREATED:20240730T180831Z
LAST-MODIFIED:20240730T200458Z
UID:10000083-1772064000-1772150399@www.silverdollargolf.com
SUMMARY:Ladies Day Every Thursday
DESCRIPTION:
URL:https://www.silverdollargolf.com/event/ladies-day/2026-02-26/
END:VEVENT
BEGIN:VEVENT
DTSTART;TZID=America/New_York:20260227T100000
DTEND;TZID=America/New_York:20260227T140000
DTSTAMP:20260423T072637
CREATED:20240815T134522Z
LAST-MODIFIED:20250604T140135Z
UID:10000422-1772186400-1772200800@www.silverdollargolf.com
SUMMARY:WEDNESDAY  -   FRIDAY   SCRAMBLE
DESCRIPTION:
URL:https://www.silverdollargolf.com/event/wednesday-friday-scramble-2/2026-02-27/
END:VEVENT
BEGIN:VEVENT
DTSTART;TZID=America/New_York:20260228T080000
DTEND;TZID=America/New_York:20260228T080000
DTSTAMP:20260423T072637
CREATED:20250812T142825Z
LAST-MODIFIED:20250812T151509Z
UID:10001860-1772265600-1772265600@www.silverdollargolf.com
SUMMARY:Saturday Scramble 18 holes
DESCRIPTION:Blind draw for teams\nShotgun Start\nContact Jill to sign up @ 813-480-0583
URL:https://www.silverdollargolf.com/event/saturday-scramble-18-holes-3/2026-02-28/
END:VEVENT
END:VCALENDAR