BEGIN:VCALENDAR
VERSION:2.0
PRODID:-//Silver Dollar Golf &amp; Trap Club - ECPv6.15.18//NONSGML v1.0//EN
CALSCALE:GREGORIAN
METHOD:PUBLISH
X-ORIGINAL-URL:https://www.silverdollargolf.com
X-WR-CALDESC:Events for Silver Dollar Golf &amp; Trap Club
REFRESH-INTERVAL;VALUE=DURATION:PT1H
X-Robots-Tag:noindex
X-PUBLISHED-TTL:PT1H
BEGIN:VTIMEZONE
TZID:America/New_York
BEGIN:DAYLIGHT
TZOFFSETFROM:-0500
TZOFFSETTO:-0400
TZNAME:EDT
DTSTART:20250309T070000
END:DAYLIGHT
BEGIN:STANDARD
TZOFFSETFROM:-0400
TZOFFSETTO:-0500
TZNAME:EST
DTSTART:20251102T060000
END:STANDARD
BEGIN:DAYLIGHT
TZOFFSETFROM:-0500
TZOFFSETTO:-0400
TZNAME:EDT
DTSTART:20260308T070000
END:DAYLIGHT
BEGIN:STANDARD
TZOFFSETFROM:-0400
TZOFFSETTO:-0500
TZNAME:EST
DTSTART:20261101T060000
END:STANDARD
BEGIN:DAYLIGHT
TZOFFSETFROM:-0500
TZOFFSETTO:-0400
TZNAME:EDT
DTSTART:20270314T070000
END:DAYLIGHT
BEGIN:STANDARD
TZOFFSETFROM:-0400
TZOFFSETTO:-0500
TZNAME:EST
DTSTART:20271107T060000
END:STANDARD
END:VTIMEZONE
BEGIN:VEVENT
DTSTART;TZID=America/New_York:20261104T100000
DTEND;TZID=America/New_York:20261104T140000
DTSTAMP:20260425T154059
CREATED:20240815T134522Z
LAST-MODIFIED:20250604T140135Z
UID:10000493-1793786400-1793800800@www.silverdollargolf.com
SUMMARY:WEDNESDAY  -   FRIDAY   SCRAMBLE
DESCRIPTION:
URL:https://www.silverdollargolf.com/event/wednesday-friday-scramble-2/2026-11-04/
END:VEVENT
BEGIN:VEVENT
DTSTART;VALUE=DATE:20261105
DTEND;VALUE=DATE:20261106
DTSTAMP:20260425T154059
CREATED:20240730T180831Z
LAST-MODIFIED:20240730T200458Z
UID:10000119-1793836800-1793923199@www.silverdollargolf.com
SUMMARY:Ladies Day Every Thursday
DESCRIPTION:
URL:https://www.silverdollargolf.com/event/ladies-day/2026-11-05/
END:VEVENT
BEGIN:VEVENT
DTSTART;TZID=America/New_York:20261106T100000
DTEND;TZID=America/New_York:20261106T140000
DTSTAMP:20260425T154059
CREATED:20240815T134522Z
LAST-MODIFIED:20250604T140135Z
UID:10000494-1793959200-1793973600@www.silverdollargolf.com
SUMMARY:WEDNESDAY  -   FRIDAY   SCRAMBLE
DESCRIPTION:
URL:https://www.silverdollargolf.com/event/wednesday-friday-scramble-2/2026-11-06/
END:VEVENT
BEGIN:VEVENT
DTSTART;TZID=America/New_York:20261107T080000
DTEND;TZID=America/New_York:20261107T080000
DTSTAMP:20260425T154059
CREATED:20250812T142825Z
LAST-MODIFIED:20250812T151509Z
UID:10002156-1794038400-1794038400@www.silverdollargolf.com
SUMMARY:Saturday Scramble 18 holes
DESCRIPTION:Blind draw for teams\nShotgun Start\nContact Jill to sign up @ 813-480-0583
URL:https://www.silverdollargolf.com/event/saturday-scramble-18-holes-3/2026-11-07/
END:VEVENT
BEGIN:VEVENT
DTSTART;TZID=America/New_York:20261111T100000
DTEND;TZID=America/New_York:20261111T140000
DTSTAMP:20260425T154059
CREATED:20240815T134522Z
LAST-MODIFIED:20250604T140135Z
UID:10000495-1794391200-1794405600@www.silverdollargolf.com
SUMMARY:WEDNESDAY  -   FRIDAY   SCRAMBLE
DESCRIPTION:
URL:https://www.silverdollargolf.com/event/wednesday-friday-scramble-2/2026-11-11/
END:VEVENT
BEGIN:VEVENT
DTSTART;VALUE=DATE:20261112
DTEND;VALUE=DATE:20261113
DTSTAMP:20260425T154059
CREATED:20240730T180831Z
LAST-MODIFIED:20240730T200458Z
UID:10000120-1794441600-1794527999@www.silverdollargolf.com
SUMMARY:Ladies Day Every Thursday
DESCRIPTION:
URL:https://www.silverdollargolf.com/event/ladies-day/2026-11-12/
END:VEVENT
BEGIN:VEVENT
DTSTART;TZID=America/New_York:20261113T100000
DTEND;TZID=America/New_York:20261113T140000
DTSTAMP:20260425T154059
CREATED:20240815T134522Z
LAST-MODIFIED:20250604T140135Z
UID:10000496-1794564000-1794578400@www.silverdollargolf.com
SUMMARY:WEDNESDAY  -   FRIDAY   SCRAMBLE
DESCRIPTION:
URL:https://www.silverdollargolf.com/event/wednesday-friday-scramble-2/2026-11-13/
END:VEVENT
BEGIN:VEVENT
DTSTART;TZID=America/New_York:20261114T080000
DTEND;TZID=America/New_York:20261114T080000
DTSTAMP:20260425T154059
CREATED:20250812T142825Z
LAST-MODIFIED:20250812T151509Z
UID:10002157-1794643200-1794643200@www.silverdollargolf.com
SUMMARY:Saturday Scramble 18 holes
DESCRIPTION:Blind draw for teams\nShotgun Start\nContact Jill to sign up @ 813-480-0583
URL:https://www.silverdollargolf.com/event/saturday-scramble-18-holes-3/2026-11-14/
END:VEVENT
BEGIN:VEVENT
DTSTART;TZID=America/New_York:20261118T100000
DTEND;TZID=America/New_York:20261118T140000
DTSTAMP:20260425T154059
CREATED:20240815T134522Z
LAST-MODIFIED:20250604T140135Z
UID:10000497-1794996000-1795010400@www.silverdollargolf.com
SUMMARY:WEDNESDAY  -   FRIDAY   SCRAMBLE
DESCRIPTION:
URL:https://www.silverdollargolf.com/event/wednesday-friday-scramble-2/2026-11-18/
END:VEVENT
BEGIN:VEVENT
DTSTART;VALUE=DATE:20261119
DTEND;VALUE=DATE:20261120
DTSTAMP:20260425T154059
CREATED:20240730T180831Z
LAST-MODIFIED:20240730T200458Z
UID:10000121-1795046400-1795132799@www.silverdollargolf.com
SUMMARY:Ladies Day Every Thursday
DESCRIPTION:
URL:https://www.silverdollargolf.com/event/ladies-day/2026-11-19/
END:VEVENT
BEGIN:VEVENT
DTSTART;TZID=America/New_York:20261120T100000
DTEND;TZID=America/New_York:20261120T140000
DTSTAMP:20260425T154059
CREATED:20240815T134522Z
LAST-MODIFIED:20250604T140135Z
UID:10000498-1795168800-1795183200@www.silverdollargolf.com
SUMMARY:WEDNESDAY  -   FRIDAY   SCRAMBLE
DESCRIPTION:
URL:https://www.silverdollargolf.com/event/wednesday-friday-scramble-2/2026-11-20/
END:VEVENT
BEGIN:VEVENT
DTSTART;TZID=America/New_York:20261121T080000
DTEND;TZID=America/New_York:20261121T080000
DTSTAMP:20260425T154059
CREATED:20250812T142825Z
LAST-MODIFIED:20250812T151509Z
UID:10002158-1795248000-1795248000@www.silverdollargolf.com
SUMMARY:Saturday Scramble 18 holes
DESCRIPTION:Blind draw for teams\nShotgun Start\nContact Jill to sign up @ 813-480-0583
URL:https://www.silverdollargolf.com/event/saturday-scramble-18-holes-3/2026-11-21/
END:VEVENT
BEGIN:VEVENT
DTSTART;TZID=America/New_York:20261125T100000
DTEND;TZID=America/New_York:20261125T140000
DTSTAMP:20260425T154059
CREATED:20240815T134522Z
LAST-MODIFIED:20250604T140135Z
UID:10000499-1795600800-1795615200@www.silverdollargolf.com
SUMMARY:WEDNESDAY  -   FRIDAY   SCRAMBLE
DESCRIPTION:
URL:https://www.silverdollargolf.com/event/wednesday-friday-scramble-2/2026-11-25/
END:VEVENT
BEGIN:VEVENT
DTSTART;VALUE=DATE:20261126
DTEND;VALUE=DATE:20261127
DTSTAMP:20260425T154059
CREATED:20240730T180831Z
LAST-MODIFIED:20240730T200458Z
UID:10000122-1795651200-1795737599@www.silverdollargolf.com
SUMMARY:Ladies Day Every Thursday
DESCRIPTION:
URL:https://www.silverdollargolf.com/event/ladies-day/2026-11-26/
END:VEVENT
BEGIN:VEVENT
DTSTART;TZID=America/New_York:20261127T100000
DTEND;TZID=America/New_York:20261127T140000
DTSTAMP:20260425T154059
CREATED:20240815T134522Z
LAST-MODIFIED:20250604T140135Z
UID:10000500-1795773600-1795788000@www.silverdollargolf.com
SUMMARY:WEDNESDAY  -   FRIDAY   SCRAMBLE
DESCRIPTION:
URL:https://www.silverdollargolf.com/event/wednesday-friday-scramble-2/2026-11-27/
END:VEVENT
BEGIN:VEVENT
DTSTART;TZID=America/New_York:20261128T080000
DTEND;TZID=America/New_York:20261128T080000
DTSTAMP:20260425T154059
CREATED:20250812T142825Z
LAST-MODIFIED:20250812T151509Z
UID:10002159-1795852800-1795852800@www.silverdollargolf.com
SUMMARY:Saturday Scramble 18 holes
DESCRIPTION:Blind draw for teams\nShotgun Start\nContact Jill to sign up @ 813-480-0583
URL:https://www.silverdollargolf.com/event/saturday-scramble-18-holes-3/2026-11-28/
END:VEVENT
END:VCALENDAR