BEGIN:VCALENDAR
VERSION:2.0
PRODID:-//Silver Dollar Golf &amp; Trap Club - ECPv6.15.18//NONSGML v1.0//EN
CALSCALE:GREGORIAN
METHOD:PUBLISH
X-ORIGINAL-URL:https://www.silverdollargolf.com
X-WR-CALDESC:Events for Silver Dollar Golf &amp; Trap Club
REFRESH-INTERVAL;VALUE=DURATION:PT1H
X-Robots-Tag:noindex
X-PUBLISHED-TTL:PT1H
BEGIN:VTIMEZONE
TZID:America/New_York
BEGIN:DAYLIGHT
TZOFFSETFROM:-0500
TZOFFSETTO:-0400
TZNAME:EDT
DTSTART:20260308T070000
END:DAYLIGHT
BEGIN:STANDARD
TZOFFSETFROM:-0400
TZOFFSETTO:-0500
TZNAME:EST
DTSTART:20261101T060000
END:STANDARD
BEGIN:DAYLIGHT
TZOFFSETFROM:-0500
TZOFFSETTO:-0400
TZNAME:EDT
DTSTART:20270314T070000
END:DAYLIGHT
BEGIN:STANDARD
TZOFFSETFROM:-0400
TZOFFSETTO:-0500
TZNAME:EST
DTSTART:20271107T060000
END:STANDARD
BEGIN:DAYLIGHT
TZOFFSETFROM:-0500
TZOFFSETTO:-0400
TZNAME:EDT
DTSTART:20280312T070000
END:DAYLIGHT
BEGIN:STANDARD
TZOFFSETFROM:-0400
TZOFFSETTO:-0500
TZNAME:EST
DTSTART:20281105T060000
END:STANDARD
END:VTIMEZONE
BEGIN:VEVENT
DTSTART;TZID=America/New_York:20270101T100000
DTEND;TZID=America/New_York:20270101T140000
DTSTAMP:20260425T190104
CREATED:20240815T134522Z
LAST-MODIFIED:20250604T140135Z
UID:10000510-1798797600-1798812000@www.silverdollargolf.com
SUMMARY:WEDNESDAY  -   FRIDAY   SCRAMBLE
DESCRIPTION:
URL:https://www.silverdollargolf.com/event/wednesday-friday-scramble-2/2027-01-01/
END:VEVENT
BEGIN:VEVENT
DTSTART;TZID=America/New_York:20270102T080000
DTEND;TZID=America/New_York:20270102T080000
DTSTAMP:20260425T190104
CREATED:20250812T142825Z
LAST-MODIFIED:20250812T151509Z
UID:10002164-1798876800-1798876800@www.silverdollargolf.com
SUMMARY:Saturday Scramble 18 holes
DESCRIPTION:Blind draw for teams\nShotgun Start\nContact Jill to sign up @ 813-480-0583
URL:https://www.silverdollargolf.com/event/saturday-scramble-18-holes-3/2027-01-02/
END:VEVENT
BEGIN:VEVENT
DTSTART;TZID=America/New_York:20270106T100000
DTEND;TZID=America/New_York:20270106T140000
DTSTAMP:20260425T190104
CREATED:20240815T134522Z
LAST-MODIFIED:20250604T140135Z
UID:10000511-1799229600-1799244000@www.silverdollargolf.com
SUMMARY:WEDNESDAY  -   FRIDAY   SCRAMBLE
DESCRIPTION:
URL:https://www.silverdollargolf.com/event/wednesday-friday-scramble-2/2027-01-06/
END:VEVENT
BEGIN:VEVENT
DTSTART;VALUE=DATE:20270107
DTEND;VALUE=DATE:20270108
DTSTAMP:20260425T190104
CREATED:20240730T180831Z
LAST-MODIFIED:20240730T200458Z
UID:10000128-1799280000-1799366399@www.silverdollargolf.com
SUMMARY:Ladies Day Every Thursday
DESCRIPTION:
URL:https://www.silverdollargolf.com/event/ladies-day/2027-01-07/
END:VEVENT
BEGIN:VEVENT
DTSTART;TZID=America/New_York:20270108T100000
DTEND;TZID=America/New_York:20270108T140000
DTSTAMP:20260425T190104
CREATED:20240815T134522Z
LAST-MODIFIED:20250604T140135Z
UID:10000512-1799402400-1799416800@www.silverdollargolf.com
SUMMARY:WEDNESDAY  -   FRIDAY   SCRAMBLE
DESCRIPTION:
URL:https://www.silverdollargolf.com/event/wednesday-friday-scramble-2/2027-01-08/
END:VEVENT
BEGIN:VEVENT
DTSTART;TZID=America/New_York:20270109T080000
DTEND;TZID=America/New_York:20270109T080000
DTSTAMP:20260425T190104
CREATED:20250812T142825Z
LAST-MODIFIED:20250812T151509Z
UID:10002165-1799481600-1799481600@www.silverdollargolf.com
SUMMARY:Saturday Scramble 18 holes
DESCRIPTION:Blind draw for teams\nShotgun Start\nContact Jill to sign up @ 813-480-0583
URL:https://www.silverdollargolf.com/event/saturday-scramble-18-holes-3/2027-01-09/
END:VEVENT
BEGIN:VEVENT
DTSTART;TZID=America/New_York:20270113T100000
DTEND;TZID=America/New_York:20270113T140000
DTSTAMP:20260425T190104
CREATED:20240815T134522Z
LAST-MODIFIED:20250604T140135Z
UID:10000513-1799834400-1799848800@www.silverdollargolf.com
SUMMARY:WEDNESDAY  -   FRIDAY   SCRAMBLE
DESCRIPTION:
URL:https://www.silverdollargolf.com/event/wednesday-friday-scramble-2/2027-01-13/
END:VEVENT
BEGIN:VEVENT
DTSTART;VALUE=DATE:20270114
DTEND;VALUE=DATE:20270115
DTSTAMP:20260425T190104
CREATED:20240730T180831Z
LAST-MODIFIED:20240730T200458Z
UID:10000129-1799884800-1799971199@www.silverdollargolf.com
SUMMARY:Ladies Day Every Thursday
DESCRIPTION:
URL:https://www.silverdollargolf.com/event/ladies-day/2027-01-14/
END:VEVENT
BEGIN:VEVENT
DTSTART;TZID=America/New_York:20270115T100000
DTEND;TZID=America/New_York:20270115T140000
DTSTAMP:20260425T190104
CREATED:20240815T134522Z
LAST-MODIFIED:20250604T140135Z
UID:10000514-1800007200-1800021600@www.silverdollargolf.com
SUMMARY:WEDNESDAY  -   FRIDAY   SCRAMBLE
DESCRIPTION:
URL:https://www.silverdollargolf.com/event/wednesday-friday-scramble-2/2027-01-15/
END:VEVENT
BEGIN:VEVENT
DTSTART;TZID=America/New_York:20270116T080000
DTEND;TZID=America/New_York:20270116T080000
DTSTAMP:20260425T190104
CREATED:20250812T142825Z
LAST-MODIFIED:20250812T151509Z
UID:10002166-1800086400-1800086400@www.silverdollargolf.com
SUMMARY:Saturday Scramble 18 holes
DESCRIPTION:Blind draw for teams\nShotgun Start\nContact Jill to sign up @ 813-480-0583
URL:https://www.silverdollargolf.com/event/saturday-scramble-18-holes-3/2027-01-16/
END:VEVENT
BEGIN:VEVENT
DTSTART;TZID=America/New_York:20270120T100000
DTEND;TZID=America/New_York:20270120T140000
DTSTAMP:20260425T190104
CREATED:20240815T134522Z
LAST-MODIFIED:20250604T140135Z
UID:10000515-1800439200-1800453600@www.silverdollargolf.com
SUMMARY:WEDNESDAY  -   FRIDAY   SCRAMBLE
DESCRIPTION:
URL:https://www.silverdollargolf.com/event/wednesday-friday-scramble-2/2027-01-20/
END:VEVENT
BEGIN:VEVENT
DTSTART;VALUE=DATE:20270121
DTEND;VALUE=DATE:20270122
DTSTAMP:20260425T190104
CREATED:20240730T180831Z
LAST-MODIFIED:20240730T200458Z
UID:10000130-1800489600-1800575999@www.silverdollargolf.com
SUMMARY:Ladies Day Every Thursday
DESCRIPTION:
URL:https://www.silverdollargolf.com/event/ladies-day/2027-01-21/
END:VEVENT
BEGIN:VEVENT
DTSTART;TZID=America/New_York:20270122T100000
DTEND;TZID=America/New_York:20270122T140000
DTSTAMP:20260425T190104
CREATED:20240815T134522Z
LAST-MODIFIED:20250604T140135Z
UID:10000516-1800612000-1800626400@www.silverdollargolf.com
SUMMARY:WEDNESDAY  -   FRIDAY   SCRAMBLE
DESCRIPTION:
URL:https://www.silverdollargolf.com/event/wednesday-friday-scramble-2/2027-01-22/
END:VEVENT
BEGIN:VEVENT
DTSTART;TZID=America/New_York:20270123T080000
DTEND;TZID=America/New_York:20270123T080000
DTSTAMP:20260425T190104
CREATED:20250812T142825Z
LAST-MODIFIED:20250812T151509Z
UID:10002167-1800691200-1800691200@www.silverdollargolf.com
SUMMARY:Saturday Scramble 18 holes
DESCRIPTION:Blind draw for teams\nShotgun Start\nContact Jill to sign up @ 813-480-0583
URL:https://www.silverdollargolf.com/event/saturday-scramble-18-holes-3/2027-01-23/
END:VEVENT
BEGIN:VEVENT
DTSTART;TZID=America/New_York:20270127T100000
DTEND;TZID=America/New_York:20270127T140000
DTSTAMP:20260425T190104
CREATED:20240815T134522Z
LAST-MODIFIED:20250604T140135Z
UID:10000517-1801044000-1801058400@www.silverdollargolf.com
SUMMARY:WEDNESDAY  -   FRIDAY   SCRAMBLE
DESCRIPTION:
URL:https://www.silverdollargolf.com/event/wednesday-friday-scramble-2/2027-01-27/
END:VEVENT
BEGIN:VEVENT
DTSTART;VALUE=DATE:20270128
DTEND;VALUE=DATE:20270129
DTSTAMP:20260425T190104
CREATED:20240730T180831Z
LAST-MODIFIED:20240730T200458Z
UID:10000131-1801094400-1801180799@www.silverdollargolf.com
SUMMARY:Ladies Day Every Thursday
DESCRIPTION:
URL:https://www.silverdollargolf.com/event/ladies-day/2027-01-28/
END:VEVENT
BEGIN:VEVENT
DTSTART;TZID=America/New_York:20270129T100000
DTEND;TZID=America/New_York:20270129T140000
DTSTAMP:20260425T190104
CREATED:20240815T134522Z
LAST-MODIFIED:20250604T140135Z
UID:10000518-1801216800-1801231200@www.silverdollargolf.com
SUMMARY:WEDNESDAY  -   FRIDAY   SCRAMBLE
DESCRIPTION:
URL:https://www.silverdollargolf.com/event/wednesday-friday-scramble-2/2027-01-29/
END:VEVENT
BEGIN:VEVENT
DTSTART;TZID=America/New_York:20270130T080000
DTEND;TZID=America/New_York:20270130T080000
DTSTAMP:20260425T190104
CREATED:20250812T142825Z
LAST-MODIFIED:20250812T151509Z
UID:10002168-1801296000-1801296000@www.silverdollargolf.com
SUMMARY:Saturday Scramble 18 holes
DESCRIPTION:Blind draw for teams\nShotgun Start\nContact Jill to sign up @ 813-480-0583
URL:https://www.silverdollargolf.com/event/saturday-scramble-18-holes-3/2027-01-30/
END:VEVENT
END:VCALENDAR