BEGIN:VCALENDAR
VERSION:2.0
PRODID:-//Silver Dollar Golf &amp; Trap Club - ECPv6.15.18//NONSGML v1.0//EN
CALSCALE:GREGORIAN
METHOD:PUBLISH
X-WR-CALNAME:Silver Dollar Golf &amp; Trap Club
X-ORIGINAL-URL:https://www.silverdollargolf.com
X-WR-CALDESC:Events for Silver Dollar Golf &amp; Trap Club
REFRESH-INTERVAL;VALUE=DURATION:PT1H
X-Robots-Tag:noindex
X-PUBLISHED-TTL:PT1H
BEGIN:VTIMEZONE
TZID:America/New_York
BEGIN:DAYLIGHT
TZOFFSETFROM:-0500
TZOFFSETTO:-0400
TZNAME:EDT
DTSTART:20250309T070000
END:DAYLIGHT
BEGIN:STANDARD
TZOFFSETFROM:-0400
TZOFFSETTO:-0500
TZNAME:EST
DTSTART:20251102T060000
END:STANDARD
BEGIN:DAYLIGHT
TZOFFSETFROM:-0500
TZOFFSETTO:-0400
TZNAME:EDT
DTSTART:20260308T070000
END:DAYLIGHT
BEGIN:STANDARD
TZOFFSETFROM:-0400
TZOFFSETTO:-0500
TZNAME:EST
DTSTART:20261101T060000
END:STANDARD
BEGIN:DAYLIGHT
TZOFFSETFROM:-0500
TZOFFSETTO:-0400
TZNAME:EDT
DTSTART:20270314T070000
END:DAYLIGHT
BEGIN:STANDARD
TZOFFSETFROM:-0400
TZOFFSETTO:-0500
TZNAME:EST
DTSTART:20271107T060000
END:STANDARD
END:VTIMEZONE
BEGIN:VEVENT
DTSTART;VALUE=DATE:20260423
DTEND;VALUE=DATE:20260424
DTSTAMP:20260423T043124
CREATED:20240730T180831Z
LAST-MODIFIED:20240730T200458Z
UID:10000091-1776902400-1776988799@www.silverdollargolf.com
SUMMARY:Ladies Day Every Thursday
DESCRIPTION:
URL:https://www.silverdollargolf.com/event/ladies-day/2026-04-23/
END:VEVENT
BEGIN:VEVENT
DTSTART;TZID=America/New_York:20260424T100000
DTEND;TZID=America/New_York:20260424T140000
DTSTAMP:20260423T043124
CREATED:20240815T134522Z
LAST-MODIFIED:20250604T140135Z
UID:10000438-1777024800-1777039200@www.silverdollargolf.com
SUMMARY:WEDNESDAY  -   FRIDAY   SCRAMBLE
DESCRIPTION:
URL:https://www.silverdollargolf.com/event/wednesday-friday-scramble-2/2026-04-24/
END:VEVENT
BEGIN:VEVENT
DTSTART;TZID=America/New_York:20260425T080000
DTEND;TZID=America/New_York:20260425T080000
DTSTAMP:20260423T043124
CREATED:20250812T142825Z
LAST-MODIFIED:20250812T151509Z
UID:10001868-1777104000-1777104000@www.silverdollargolf.com
SUMMARY:Saturday Scramble 18 holes
DESCRIPTION:Blind draw for teams\nShotgun Start\nContact Jill to sign up @ 813-480-0583
URL:https://www.silverdollargolf.com/event/saturday-scramble-18-holes-3/2026-04-25/
END:VEVENT
BEGIN:VEVENT
DTSTART;TZID=America/New_York:20260429T100000
DTEND;TZID=America/New_York:20260429T140000
DTSTAMP:20260423T043124
CREATED:20240815T134522Z
LAST-MODIFIED:20250604T140135Z
UID:10000439-1777456800-1777471200@www.silverdollargolf.com
SUMMARY:WEDNESDAY  -   FRIDAY   SCRAMBLE
DESCRIPTION:
URL:https://www.silverdollargolf.com/event/wednesday-friday-scramble-2/2026-04-29/
END:VEVENT
BEGIN:VEVENT
DTSTART;VALUE=DATE:20260430
DTEND;VALUE=DATE:20260501
DTSTAMP:20260423T043124
CREATED:20240730T180831Z
LAST-MODIFIED:20240730T200458Z
UID:10000092-1777507200-1777593599@www.silverdollargolf.com
SUMMARY:Ladies Day Every Thursday
DESCRIPTION:
URL:https://www.silverdollargolf.com/event/ladies-day/2026-04-30/
END:VEVENT
END:VCALENDAR