BEGIN:VCALENDAR
VERSION:2.0
PRODID:-//Silver Dollar Golf &amp; Trap Club - ECPv6.15.18//NONSGML v1.0//EN
CALSCALE:GREGORIAN
METHOD:PUBLISH
X-WR-CALNAME:Silver Dollar Golf &amp; Trap Club
X-ORIGINAL-URL:https://www.silverdollargolf.com
X-WR-CALDESC:Events for Silver Dollar Golf &amp; Trap Club
REFRESH-INTERVAL;VALUE=DURATION:PT1H
X-Robots-Tag:noindex
X-PUBLISHED-TTL:PT1H
BEGIN:VTIMEZONE
TZID:America/New_York
BEGIN:DAYLIGHT
TZOFFSETFROM:-0500
TZOFFSETTO:-0400
TZNAME:EDT
DTSTART:20250309T070000
END:DAYLIGHT
BEGIN:STANDARD
TZOFFSETFROM:-0400
TZOFFSETTO:-0500
TZNAME:EST
DTSTART:20251102T060000
END:STANDARD
BEGIN:DAYLIGHT
TZOFFSETFROM:-0500
TZOFFSETTO:-0400
TZNAME:EDT
DTSTART:20260308T070000
END:DAYLIGHT
BEGIN:STANDARD
TZOFFSETFROM:-0400
TZOFFSETTO:-0500
TZNAME:EST
DTSTART:20261101T060000
END:STANDARD
BEGIN:DAYLIGHT
TZOFFSETFROM:-0500
TZOFFSETTO:-0400
TZNAME:EDT
DTSTART:20270314T070000
END:DAYLIGHT
BEGIN:STANDARD
TZOFFSETFROM:-0400
TZOFFSETTO:-0500
TZNAME:EST
DTSTART:20271107T060000
END:STANDARD
END:VTIMEZONE
BEGIN:VEVENT
DTSTART;TZID=America/New_York:20261202T100000
DTEND;TZID=America/New_York:20261202T140000
DTSTAMP:20260425T172805
CREATED:20240815T134522Z
LAST-MODIFIED:20250604T140135Z
UID:10000501-1796205600-1796220000@www.silverdollargolf.com
SUMMARY:WEDNESDAY  -   FRIDAY   SCRAMBLE
DESCRIPTION:
URL:https://www.silverdollargolf.com/event/wednesday-friday-scramble-2/2026-12-02/
END:VEVENT
BEGIN:VEVENT
DTSTART;VALUE=DATE:20261203
DTEND;VALUE=DATE:20261204
DTSTAMP:20260425T172805
CREATED:20240730T180831Z
LAST-MODIFIED:20240730T200458Z
UID:10000123-1796256000-1796342399@www.silverdollargolf.com
SUMMARY:Ladies Day Every Thursday
DESCRIPTION:
URL:https://www.silverdollargolf.com/event/ladies-day/2026-12-03/
END:VEVENT
BEGIN:VEVENT
DTSTART;TZID=America/New_York:20261204T100000
DTEND;TZID=America/New_York:20261204T140000
DTSTAMP:20260425T172805
CREATED:20240815T134522Z
LAST-MODIFIED:20250604T140135Z
UID:10000502-1796378400-1796392800@www.silverdollargolf.com
SUMMARY:WEDNESDAY  -   FRIDAY   SCRAMBLE
DESCRIPTION:
URL:https://www.silverdollargolf.com/event/wednesday-friday-scramble-2/2026-12-04/
END:VEVENT
BEGIN:VEVENT
DTSTART;TZID=America/New_York:20261205T080000
DTEND;TZID=America/New_York:20261205T080000
DTSTAMP:20260425T172805
CREATED:20250812T142825Z
LAST-MODIFIED:20250812T151509Z
UID:10002160-1796457600-1796457600@www.silverdollargolf.com
SUMMARY:Saturday Scramble 18 holes
DESCRIPTION:Blind draw for teams\nShotgun Start\nContact Jill to sign up @ 813-480-0583
URL:https://www.silverdollargolf.com/event/saturday-scramble-18-holes-3/2026-12-05/
END:VEVENT
BEGIN:VEVENT
DTSTART;TZID=America/New_York:20261209T100000
DTEND;TZID=America/New_York:20261209T140000
DTSTAMP:20260425T172805
CREATED:20240815T134522Z
LAST-MODIFIED:20250604T140135Z
UID:10000503-1796810400-1796824800@www.silverdollargolf.com
SUMMARY:WEDNESDAY  -   FRIDAY   SCRAMBLE
DESCRIPTION:
URL:https://www.silverdollargolf.com/event/wednesday-friday-scramble-2/2026-12-09/
END:VEVENT
BEGIN:VEVENT
DTSTART;VALUE=DATE:20261210
DTEND;VALUE=DATE:20261211
DTSTAMP:20260425T172805
CREATED:20240730T180831Z
LAST-MODIFIED:20240730T200458Z
UID:10000124-1796860800-1796947199@www.silverdollargolf.com
SUMMARY:Ladies Day Every Thursday
DESCRIPTION:
URL:https://www.silverdollargolf.com/event/ladies-day/2026-12-10/
END:VEVENT
BEGIN:VEVENT
DTSTART;TZID=America/New_York:20261211T100000
DTEND;TZID=America/New_York:20261211T140000
DTSTAMP:20260425T172805
CREATED:20240815T134522Z
LAST-MODIFIED:20250604T140135Z
UID:10000504-1796983200-1796997600@www.silverdollargolf.com
SUMMARY:WEDNESDAY  -   FRIDAY   SCRAMBLE
DESCRIPTION:
URL:https://www.silverdollargolf.com/event/wednesday-friday-scramble-2/2026-12-11/
END:VEVENT
BEGIN:VEVENT
DTSTART;TZID=America/New_York:20261212T080000
DTEND;TZID=America/New_York:20261212T080000
DTSTAMP:20260425T172805
CREATED:20250812T142825Z
LAST-MODIFIED:20250812T151509Z
UID:10002161-1797062400-1797062400@www.silverdollargolf.com
SUMMARY:Saturday Scramble 18 holes
DESCRIPTION:Blind draw for teams\nShotgun Start\nContact Jill to sign up @ 813-480-0583
URL:https://www.silverdollargolf.com/event/saturday-scramble-18-holes-3/2026-12-12/
END:VEVENT
BEGIN:VEVENT
DTSTART;TZID=America/New_York:20261216T100000
DTEND;TZID=America/New_York:20261216T140000
DTSTAMP:20260425T172805
CREATED:20240815T134522Z
LAST-MODIFIED:20250604T140135Z
UID:10000505-1797415200-1797429600@www.silverdollargolf.com
SUMMARY:WEDNESDAY  -   FRIDAY   SCRAMBLE
DESCRIPTION:
URL:https://www.silverdollargolf.com/event/wednesday-friday-scramble-2/2026-12-16/
END:VEVENT
BEGIN:VEVENT
DTSTART;VALUE=DATE:20261217
DTEND;VALUE=DATE:20261218
DTSTAMP:20260425T172805
CREATED:20240730T180831Z
LAST-MODIFIED:20240730T200458Z
UID:10000125-1797465600-1797551999@www.silverdollargolf.com
SUMMARY:Ladies Day Every Thursday
DESCRIPTION:
URL:https://www.silverdollargolf.com/event/ladies-day/2026-12-17/
END:VEVENT
BEGIN:VEVENT
DTSTART;TZID=America/New_York:20261218T100000
DTEND;TZID=America/New_York:20261218T140000
DTSTAMP:20260425T172805
CREATED:20240815T134522Z
LAST-MODIFIED:20250604T140135Z
UID:10000506-1797588000-1797602400@www.silverdollargolf.com
SUMMARY:WEDNESDAY  -   FRIDAY   SCRAMBLE
DESCRIPTION:
URL:https://www.silverdollargolf.com/event/wednesday-friday-scramble-2/2026-12-18/
END:VEVENT
BEGIN:VEVENT
DTSTART;TZID=America/New_York:20261219T080000
DTEND;TZID=America/New_York:20261219T080000
DTSTAMP:20260425T172805
CREATED:20250812T142825Z
LAST-MODIFIED:20250812T151509Z
UID:10002162-1797667200-1797667200@www.silverdollargolf.com
SUMMARY:Saturday Scramble 18 holes
DESCRIPTION:Blind draw for teams\nShotgun Start\nContact Jill to sign up @ 813-480-0583
URL:https://www.silverdollargolf.com/event/saturday-scramble-18-holes-3/2026-12-19/
END:VEVENT
BEGIN:VEVENT
DTSTART;TZID=America/New_York:20261223T100000
DTEND;TZID=America/New_York:20261223T140000
DTSTAMP:20260425T172805
CREATED:20240815T134522Z
LAST-MODIFIED:20250604T140135Z
UID:10000507-1798020000-1798034400@www.silverdollargolf.com
SUMMARY:WEDNESDAY  -   FRIDAY   SCRAMBLE
DESCRIPTION:
URL:https://www.silverdollargolf.com/event/wednesday-friday-scramble-2/2026-12-23/
END:VEVENT
BEGIN:VEVENT
DTSTART;VALUE=DATE:20261224
DTEND;VALUE=DATE:20261225
DTSTAMP:20260425T172805
CREATED:20240730T180831Z
LAST-MODIFIED:20240730T200458Z
UID:10000126-1798070400-1798156799@www.silverdollargolf.com
SUMMARY:Ladies Day Every Thursday
DESCRIPTION:
URL:https://www.silverdollargolf.com/event/ladies-day/2026-12-24/
END:VEVENT
BEGIN:VEVENT
DTSTART;TZID=America/New_York:20261225T100000
DTEND;TZID=America/New_York:20261225T140000
DTSTAMP:20260425T172805
CREATED:20240815T134522Z
LAST-MODIFIED:20250604T140135Z
UID:10000508-1798192800-1798207200@www.silverdollargolf.com
SUMMARY:WEDNESDAY  -   FRIDAY   SCRAMBLE
DESCRIPTION:
URL:https://www.silverdollargolf.com/event/wednesday-friday-scramble-2/2026-12-25/
END:VEVENT
BEGIN:VEVENT
DTSTART;TZID=America/New_York:20261226T080000
DTEND;TZID=America/New_York:20261226T080000
DTSTAMP:20260425T172805
CREATED:20250812T142825Z
LAST-MODIFIED:20250812T151509Z
UID:10002163-1798272000-1798272000@www.silverdollargolf.com
SUMMARY:Saturday Scramble 18 holes
DESCRIPTION:Blind draw for teams\nShotgun Start\nContact Jill to sign up @ 813-480-0583
URL:https://www.silverdollargolf.com/event/saturday-scramble-18-holes-3/2026-12-26/
END:VEVENT
BEGIN:VEVENT
DTSTART;TZID=America/New_York:20261230T100000
DTEND;TZID=America/New_York:20261230T140000
DTSTAMP:20260425T172805
CREATED:20240815T134522Z
LAST-MODIFIED:20250604T140135Z
UID:10000509-1798624800-1798639200@www.silverdollargolf.com
SUMMARY:WEDNESDAY  -   FRIDAY   SCRAMBLE
DESCRIPTION:
URL:https://www.silverdollargolf.com/event/wednesday-friday-scramble-2/2026-12-30/
END:VEVENT
BEGIN:VEVENT
DTSTART;VALUE=DATE:20261231
DTEND;VALUE=DATE:20270101
DTSTAMP:20260425T172805
CREATED:20240730T180831Z
LAST-MODIFIED:20240730T200458Z
UID:10000127-1798675200-1798761599@www.silverdollargolf.com
SUMMARY:Ladies Day Every Thursday
DESCRIPTION:
URL:https://www.silverdollargolf.com/event/ladies-day/2026-12-31/
END:VEVENT
END:VCALENDAR